BEGIN:VCALENDAR
VERSION:2.0
PRODID:-//hacksw/handcal//NONSGML v1.0//EN
BEGIN:VEVENT
SUMMARY:LEDEUIX - DOUBLETTE - 1 adulte et un enfant (Benjamin, Minime, Cadet)  en 3 ou 4 parties a 14H00
UID:038ecae3-9174-4549-8453-b5228d636e19
DTSTART:20260409T220000Z
DTEND:20260410T220000Z
LOCATION:Localisation   
CATEGORIES:Sportif
STATUS:
URL;VALUE=URI:https://www.petanquecd64.fr/evenements/2026/04/10/ledeuix-doublette-1-adulte-et-un-enfant-benjamin-minime-cadet-en-3-ou-4-parties-a-14h00-2436722
END:VEVENT
END:VCALENDAR
