BEGIN:VCALENDAR
VERSION:2.0
PRODID:-//hacksw/handcal//NONSGML v1.0//EN
BEGIN:VEVENT
SUMMARY:PSB - Chpt DEPARTEMENTAL - INDIVIDUEL SENIOR FEMININ
UID:cf016ac5-21fc-477a-8430-66903dbe340c
DTSTART:20260426T063000Z
DTEND:20260426T220000Z
LOCATION:Localisation   MONTBRUN / BLANCPIGNON
CATEGORIES:Sportif
STATUS:
URL;VALUE=URI:https://www.petanquecd64.fr/evenements/2026/04/26/psb-chpt-departemental-individuel-senior-feminin-2399087
END:VEVENT
END:VCALENDAR
