BEGIN:VCALENDAR
VERSION:2.0
PRODID:-//hacksw/handcal//NONSGML v1.0//EN
BEGIN:VEVENT
SUMMARY:MOURENX  - DOUBLETTE - 150 EUROS  en 4 parties
UID:9f4f635b-1cb0-487d-84b3-985239d864c3
DTSTART:20260510T121500Z
DTEND:20260510T220000Z
LOCATION:Localisation   MOURENX
CATEGORIES:Sportif
STATUS:
URL;VALUE=URI:https://www.petanquecd64.fr/evenements/2026/05/10/mourenx-doublette-150-euros-en-4-parties-2399097
END:VEVENT
END:VCALENDAR
